BEGIN:VCALENDAR
VERSION:2.0
PRODID:-//Nicolette Maguire Bonnstetter - ECPv6.15.20//NONSGML v1.0//EN
CALSCALE:GREGORIAN
METHOD:PUBLISH
X-ORIGINAL-URL:https://nicsart.com
X-WR-CALDESC:Events for Nicolette Maguire Bonnstetter
REFRESH-INTERVAL;VALUE=DURATION:PT1H
X-Robots-Tag:noindex
X-PUBLISHED-TTL:PT1H
BEGIN:VTIMEZONE
TZID:America/Phoenix
BEGIN:STANDARD
TZOFFSETFROM:-0700
TZOFFSETTO:-0700
TZNAME:MST
DTSTART:20200101T000000
END:STANDARD
END:VTIMEZONE
BEGIN:VEVENT
DTSTART;TZID=America/Phoenix:20220208T163000
DTEND;TZID=America/Phoenix:20220208T173000
DTSTAMP:20260425T090430
CREATED:20210330T035940Z
LAST-MODIFIED:20210330T043636Z
UID:688-1644337800-1644341400@nicsart.com
SUMMARY:Art Critiques for Sonoran Art League Artists
DESCRIPTION:Join me for art critiques for members of the Sonoran Art League. For more information please email me directly at nic@nicsart.com.
URL:https://nicsart.com/event/art-critiques-for-sonoran-art-league-artists-feb-2022/
ATTACH;FMTTYPE=image/jpeg:https://nicsart.com/wp-content/uploads/2021/03/sonoran-arts-league.jpg
END:VEVENT
BEGIN:VEVENT
DTSTART;TZID=America/Phoenix:20220204T100000
DTEND;TZID=America/Phoenix:20220204T110000
DTSTAMP:20260425T090430
CREATED:20210330T043954Z
LAST-MODIFIED:20210330T043954Z
UID:710-1643968800-1643972400@nicsart.com
SUMMARY:Art\, Coffee & Conversation
DESCRIPTION:Attend my monthly Art\, Coffee & Conversation. For more details\, sign up at https://hollandcenter.org/programs/lifelong-learning/.
URL:https://nicsart.com/event/art-coffee-conversation-feb22/
LOCATION:Online Class
ATTACH;FMTTYPE=image/jpeg:https://nicsart.com/wp-content/uploads/2021/03/thehollandcenter.jpg
END:VEVENT
BEGIN:VEVENT
DTSTART;TZID=America/Phoenix:20220124T163000
DTEND;TZID=America/Phoenix:20220124T173000
DTSTAMP:20260425T090430
CREATED:20210330T045404Z
LAST-MODIFIED:20210330T045404Z
UID:729-1643041800-1643045400@nicsart.com
SUMMARY:Art Critiques at Desert Foothills Library
DESCRIPTION:Join me for art critiques at the Desert Foothills Library. For more information please email me directly at nic@nicsart.com.
URL:https://nicsart.com/event/art-critiques-at-desert-foothills-library-jan22/
ATTACH;FMTTYPE=image/jpeg:https://nicsart.com/wp-content/uploads/2021/03/pexels-snow-white-2721507-2.jpg
END:VEVENT
BEGIN:VEVENT
DTSTART;TZID=America/Phoenix:20220111T163000
DTEND;TZID=America/Phoenix:20220111T173000
DTSTAMP:20260425T090430
CREATED:20210330T035742Z
LAST-MODIFIED:20210330T043623Z
UID:686-1641918600-1641922200@nicsart.com
SUMMARY:Art Critiques for Sonoran Art League Artists
DESCRIPTION:Join me for art critiques for members of the Sonoran Art League. For more information please email me directly at nic@nicsart.com.
URL:https://nicsart.com/event/art-critiques-for-sonoran-art-league-artists-january-2022/
ATTACH;FMTTYPE=image/jpeg:https://nicsart.com/wp-content/uploads/2021/03/sonoran-arts-league.jpg
END:VEVENT
BEGIN:VEVENT
DTSTART;TZID=America/Phoenix:20220107T100000
DTEND;TZID=America/Phoenix:20220107T110000
DTSTAMP:20260425T090430
CREATED:20210330T032713Z
LAST-MODIFIED:20210330T043838Z
UID:675-1641549600-1641553200@nicsart.com
SUMMARY:Art\, Coffee & Conversation
DESCRIPTION:Attend my monthly Art\, Coffee & Conversation. For more details\, sign up at https://hollandcenter.org/programs/lifelong-learning/.
URL:https://nicsart.com/event/art-coffee-conversation-january-2022/
LOCATION:Online Class
ATTACH;FMTTYPE=image/jpeg:https://nicsart.com/wp-content/uploads/2021/03/thehollandcenter.jpg
END:VEVENT
BEGIN:VEVENT
DTSTART;TZID=America/Phoenix:20211227T163000
DTEND;TZID=America/Phoenix:20211227T173000
DTSTAMP:20260425T090430
CREATED:20210330T045244Z
LAST-MODIFIED:20210330T045244Z
UID:727-1640622600-1640626200@nicsart.com
SUMMARY:Art Critiques at Desert Foothills Library
DESCRIPTION:Join me for art critiques at the Desert Foothills Library. For more information please email me directly at nic@nicsart.com.
URL:https://nicsart.com/event/art-critiques-at-desert-foothills-library-dec21/
ATTACH;FMTTYPE=image/jpeg:https://nicsart.com/wp-content/uploads/2021/03/pexels-snow-white-2721507-2.jpg
END:VEVENT
BEGIN:VEVENT
DTSTART;TZID=America/Phoenix:20211214T163000
DTEND;TZID=America/Phoenix:20211214T173000
DTSTAMP:20260425T090430
CREATED:20210330T035542Z
LAST-MODIFIED:20210330T043521Z
UID:684-1639499400-1639503000@nicsart.com
SUMMARY:Art Critiques for Sonoran Art League Artists
DESCRIPTION:Join me for art critiques for members of the Sonoran Art League. For more information please email me directly at nic@nicsart.com.
URL:https://nicsart.com/event/art-critiques-for-sonoran-art-league-artists-december/
ATTACH;FMTTYPE=image/jpeg:https://nicsart.com/wp-content/uploads/2021/03/sonoran-arts-league.jpg
END:VEVENT
BEGIN:VEVENT
DTSTART;TZID=America/Phoenix:20211203T100000
DTEND;TZID=America/Phoenix:20211203T110000
DTSTAMP:20260425T090430
CREATED:20210330T032445Z
LAST-MODIFIED:20210330T032445Z
UID:673-1638525600-1638529200@nicsart.com
SUMMARY:Art\, Coffee & Conversation
DESCRIPTION:Attend my monthly Art\, Coffee & Conversation. For more details\, sign up at https://hollandcenter.org/programs/lifelong-learning/.
URL:https://nicsart.com/event/art-coffee-conversation-december/
LOCATION:Online Class
ATTACH;FMTTYPE=image/jpeg:https://nicsart.com/wp-content/uploads/2021/03/thehollandcenter.jpg
END:VEVENT
BEGIN:VEVENT
DTSTART;TZID=America/Phoenix:20211122T163000
DTEND;TZID=America/Phoenix:20211122T173000
DTSTAMP:20260425T090430
CREATED:20210330T045038Z
LAST-MODIFIED:20210330T045038Z
UID:725-1637598600-1637602200@nicsart.com
SUMMARY:Art Critiques at Desert Foothills Library
DESCRIPTION:Join me for art critiques at the Desert Foothills Library. For more information please email me directly at nic@nicsart.com.
URL:https://nicsart.com/event/art-critiques-at-desert-foothills-library-nov21/
ATTACH;FMTTYPE=image/jpeg:https://nicsart.com/wp-content/uploads/2021/03/pexels-snow-white-2721507-2.jpg
END:VEVENT
BEGIN:VEVENT
DTSTART;TZID=America/Phoenix:20211109T163000
DTEND;TZID=America/Phoenix:20211109T173000
DTSTAMP:20260425T090430
CREATED:20210330T035354Z
LAST-MODIFIED:20210330T043513Z
UID:682-1636475400-1636479000@nicsart.com
SUMMARY:Art Critiques for Sonoran Art League Artists
DESCRIPTION:Join me for art critiques for members of the Sonoran Art League. For more information please email me directly at nic@nicsart.com.
URL:https://nicsart.com/event/art-critiques-for-sonoran-art-league-artists-november/
ATTACH;FMTTYPE=image/jpeg:https://nicsart.com/wp-content/uploads/2021/03/sonoran-arts-league.jpg
END:VEVENT
BEGIN:VEVENT
DTSTART;TZID=America/Phoenix:20211105T100000
DTEND;TZID=America/Phoenix:20211105T110000
DTSTAMP:20260425T090430
CREATED:20210330T032258Z
LAST-MODIFIED:20210922T191156Z
UID:671-1636106400-1636110000@nicsart.com
SUMMARY:Art\, Coffee & Conversation
DESCRIPTION:Attend my monthly Art\, Coffee & Conversation. For more details\, sign up at https://hollandcenter.org/programs/lifelong-learning/.
URL:https://nicsart.com/event/art-coffee-conversation-november/
LOCATION:Online Class
ATTACH;FMTTYPE=image/jpeg:https://nicsart.com/wp-content/uploads/2021/03/IMG_9248-1.jpg
END:VEVENT
BEGIN:VEVENT
DTSTART;TZID=America/Phoenix:20211025T163000
DTEND;TZID=America/Phoenix:20211025T173000
DTSTAMP:20260425T090430
CREATED:20210330T044939Z
LAST-MODIFIED:20210330T044939Z
UID:723-1635179400-1635183000@nicsart.com
SUMMARY:Art Critiques at Desert Foothills Library
DESCRIPTION:Join me for art critiques at the Desert Foothills Library. For more information please email me directly at nic@nicsart.com.
URL:https://nicsart.com/event/art-critiques-at-desert-foothills-library-oct21/
ATTACH;FMTTYPE=image/jpeg:https://nicsart.com/wp-content/uploads/2021/03/pexels-snow-white-2721507-2.jpg
END:VEVENT
BEGIN:VEVENT
DTSTART;TZID=America/Phoenix:20211012T163000
DTEND;TZID=America/Phoenix:20211012T173000
DTSTAMP:20260425T090430
CREATED:20210330T035145Z
LAST-MODIFIED:20210330T043232Z
UID:680-1634056200-1634059800@nicsart.com
SUMMARY:Art Critiques for Sonoran Art League Artists
DESCRIPTION:Join me for art critiques for members of the Sonoran Art League. For more information please email me directly at nic@nicsart.com.
URL:https://nicsart.com/event/art-critiques-for-sonoran-art-league-artists-october-2021/
ATTACH;FMTTYPE=image/jpeg:https://nicsart.com/wp-content/uploads/2021/03/sonoran-arts-league.jpg
END:VEVENT
BEGIN:VEVENT
DTSTART;TZID=America/Phoenix:20211001T100000
DTEND;TZID=America/Phoenix:20211001T110000
DTSTAMP:20260425T090430
CREATED:20210330T032207Z
LAST-MODIFIED:20210921T225512Z
UID:669-1633082400-1633086000@nicsart.com
SUMMARY:Art\, Coffee & Conversation
DESCRIPTION:Attend my monthly Art\, Coffee & Conversation. For more details\, sign up at https://hollandcenter.org/programs/lifelong-learning/
URL:https://nicsart.com/event/art-coffee-conversation-october/
LOCATION:Online Class
ATTACH;FMTTYPE=image/jpeg:https://nicsart.com/wp-content/uploads/2021/03/Joseph-Ford-1.jpg
END:VEVENT
BEGIN:VEVENT
DTSTART;TZID=America/Phoenix:20210927T163000
DTEND;TZID=America/Phoenix:20210927T173000
DTSTAMP:20260425T090430
CREATED:20210330T044743Z
LAST-MODIFIED:20210330T044743Z
UID:721-1632760200-1632763800@nicsart.com
SUMMARY:Art Critiques at Desert Foothills Library
DESCRIPTION:Join me for art critiques at the Desert Foothills Library. For more information please email me directly at nic@nicsart.com.
URL:https://nicsart.com/event/art-critiques-at-desert-foothills-library-sept21/
ATTACH;FMTTYPE=image/jpeg:https://nicsart.com/wp-content/uploads/2021/03/pexels-snow-white-2721507-2.jpg
END:VEVENT
BEGIN:VEVENT
DTSTART;TZID=America/Phoenix:20210914T163000
DTEND;TZID=America/Phoenix:20210914T173000
DTSTAMP:20260425T090430
CREATED:20210330T035022Z
LAST-MODIFIED:20210330T043150Z
UID:677-1631637000-1631640600@nicsart.com
SUMMARY:Art Critiques for Sonoran Art League Artists
DESCRIPTION:Join me for art critiques for members of the Sonoran Art League. For more information please email me directly at nic@nicsart.com.
URL:https://nicsart.com/event/art-critiques-for-sonoran-art-league-artists/
ATTACH;FMTTYPE=image/jpeg:https://nicsart.com/wp-content/uploads/2021/03/sonoran-arts-league.jpg
END:VEVENT
BEGIN:VEVENT
DTSTART;TZID=America/Phoenix:20210903T100000
DTEND;TZID=America/Phoenix:20210903T110000
DTSTAMP:20260425T090430
CREATED:20210330T032037Z
LAST-MODIFIED:20210330T032037Z
UID:667-1630663200-1630666800@nicsart.com
SUMMARY:Art\, Coffee & Conversation
DESCRIPTION:Attend my monthly Art\, Coffee & Conversation. For more details\, sign up at https://hollandcenter.org/programs/lifelong-learning/.
URL:https://nicsart.com/event/art-coffee-conversation-august/
LOCATION:Online Class
ATTACH;FMTTYPE=image/jpeg:https://nicsart.com/wp-content/uploads/2021/03/thehollandcenter.jpg
END:VEVENT
BEGIN:VEVENT
DTSTART;TZID=America/Phoenix:20210823T163000
DTEND;TZID=America/Phoenix:20210823T173000
DTSTAMP:20260425T090430
CREATED:20210330T044352Z
LAST-MODIFIED:20210330T044444Z
UID:717-1629736200-1629739800@nicsart.com
SUMMARY:Art Critiques at Desert Foothills Library
DESCRIPTION:Join me for art critiques at the Desert Foothills Library. For more information please email me directly at nic@nicsart.com.
URL:https://nicsart.com/event/art-critiques-at-desert-foothills-library-aug22/
ATTACH;FMTTYPE=image/jpeg:https://nicsart.com/wp-content/uploads/2021/03/pexels-snow-white-2721507-2.jpg
END:VEVENT
BEGIN:VEVENT
DTSTART;TZID=America/Phoenix:20210806T100000
DTEND;TZID=America/Phoenix:20210806T110000
DTSTAMP:20260425T090430
CREATED:20210330T044604Z
LAST-MODIFIED:20210330T044604Z
UID:719-1628244000-1628247600@nicsart.com
SUMMARY:Art\, Coffee & Conversation
DESCRIPTION:Attend my monthly Art\, Coffee & Conversation. For more details\, sign up at https://hollandcenter.org/programs/lifelong-learning/.
URL:https://nicsart.com/event/art-coffee-conversation-aug21/
LOCATION:Online Class
ATTACH;FMTTYPE=image/jpeg:https://nicsart.com/wp-content/uploads/2021/03/thehollandcenter.jpg
END:VEVENT
BEGIN:VEVENT
DTSTART;TZID=America/Phoenix:20210726T163000
DTEND;TZID=America/Phoenix:20210726T173000
DTSTAMP:20260425T090430
CREATED:20210330T042853Z
LAST-MODIFIED:20210330T042853Z
UID:707-1627317000-1627320600@nicsart.com
SUMMARY:Art Critiques at Desert Foothills Library
DESCRIPTION:Join me for art critiques at the Desert Foothills Library. For more information please email me directly at nic@nicsart.com.
URL:https://nicsart.com/event/art-critiques-at-desert-foothills-library-july21/
ATTACH;FMTTYPE=image/jpeg:https://nicsart.com/wp-content/uploads/2021/03/pexels-snow-white-2721507-2.jpg
END:VEVENT
BEGIN:VEVENT
DTSTART;TZID=America/Phoenix:20210702T100000
DTEND;TZID=America/Phoenix:20210702T110000
DTSTAMP:20260425T090430
CREATED:20210330T031930Z
LAST-MODIFIED:20210330T031930Z
UID:665-1625220000-1625223600@nicsart.com
SUMMARY:Art\, Coffee & Conversation
DESCRIPTION:Attend my monthly Art\, Coffee & Conversation. For more details\, sign up at https://hollandcenter.org/programs/lifelong-learning/.
URL:https://nicsart.com/event/art-coffee-conversation-july/
LOCATION:Online Class
ATTACH;FMTTYPE=image/jpeg:https://nicsart.com/wp-content/uploads/2021/03/thehollandcenter.jpg
END:VEVENT
BEGIN:VEVENT
DTSTART;TZID=America/Phoenix:20210628T163000
DTEND;TZID=America/Phoenix:20210628T173000
DTSTAMP:20260425T090430
CREATED:20210330T042403Z
LAST-MODIFIED:20210330T042519Z
UID:703-1624897800-1624901400@nicsart.com
SUMMARY:Art Critiques at Desert Foothills Library
DESCRIPTION:Join me for art critiques at the Desert Foothills Library. For more information please email me directly at nic@nicsart.com.
URL:https://nicsart.com/event/art-critiques-at-desert-foothills-library-june21/
ATTACH;FMTTYPE=image/jpeg:https://nicsart.com/wp-content/uploads/2021/03/pexels-snow-white-2721507-2.jpg
END:VEVENT
BEGIN:VEVENT
DTSTART;TZID=America/Phoenix:20210604T100000
DTEND;TZID=America/Phoenix:20210604T110000
DTSTAMP:20260425T090430
CREATED:20210330T031056Z
LAST-MODIFIED:20210330T031644Z
UID:652-1622800800-1622804400@nicsart.com
SUMMARY:Art\, Coffee & Conversation
DESCRIPTION:Attend my monthly Art\, Coffee & Conversation. For more details\, sign up at https://hollandcenter.org/programs/lifelong-learning/.
URL:https://nicsart.com/event/art-coffee-conversation-may/
LOCATION:Online Class
ATTACH;FMTTYPE=image/jpeg:https://nicsart.com/wp-content/uploads/2021/03/thehollandcenter.jpg
END:VEVENT
BEGIN:VEVENT
DTSTART;TZID=America/Phoenix:20210524T163000
DTEND;TZID=America/Phoenix:20210524T173000
DTSTAMP:20260425T090430
CREATED:20210330T042646Z
LAST-MODIFIED:20210330T042647Z
UID:705-1621873800-1621877400@nicsart.com
SUMMARY:Art Critiques at Desert Foothills Library
DESCRIPTION:Join me for art critiques at the Desert Foothills Library. For more information please email me directly at nic@nicsart.com.
URL:https://nicsart.com/event/art-critiques-at-desert-foothills-library-may21-2/
ATTACH;FMTTYPE=image/jpeg:https://nicsart.com/wp-content/uploads/2021/03/pexels-snow-white-2721507-2.jpg
END:VEVENT
BEGIN:VEVENT
DTSTART;TZID=America/Phoenix:20210507T100000
DTEND;TZID=America/Phoenix:20210507T110000
DTSTAMP:20260425T090430
CREATED:20210330T031343Z
LAST-MODIFIED:20210330T031801Z
UID:660-1620381600-1620385200@nicsart.com
SUMMARY:Art\, Coffee & Conversation
DESCRIPTION:Attend my monthly Art\, Coffee & Conversation. For more details\, sign up at https://hollandcenter.org/programs/lifelong-learning/.
URL:https://nicsart.com/event/art-coffee-conversation-june/
LOCATION:Online Class
ATTACH;FMTTYPE=image/jpeg:https://nicsart.com/wp-content/uploads/2021/03/thehollandcenter.jpg
END:VEVENT
BEGIN:VEVENT
DTSTART;TZID=America/Phoenix:20210426T163000
DTEND;TZID=America/Phoenix:20210426T173000
DTSTAMP:20260425T090430
CREATED:20210330T042220Z
LAST-MODIFIED:20210330T042220Z
UID:701-1619454600-1619458200@nicsart.com
SUMMARY:Art Critiques at Desert Foothills Library
DESCRIPTION:Join me for art critiques at the Desert Foothills Library. For more information please email me directly at nic@nicsart.com.
URL:https://nicsart.com/event/art-critiques-at-desert-foothills-library-may21/
ATTACH;FMTTYPE=image/jpeg:https://nicsart.com/wp-content/uploads/2021/03/pexels-snow-white-2721507-2.jpg
END:VEVENT
BEGIN:VEVENT
DTSTART;TZID=America/Phoenix:20210402T100000
DTEND;TZID=America/Phoenix:20210402T110000
DTSTAMP:20260425T090430
CREATED:20210308T031335Z
LAST-MODIFIED:20210308T031335Z
UID:339-1617357600-1617361200@nicsart.com
SUMMARY:Who decides what art is…Who makes an artist famous and another artist struggles?
DESCRIPTION:You may be surprised! \n \nRegister at www.holland.org punch lifelong learning
URL:https://nicsart.com/event/who-decides-what-art-iswho-makes-an-artist-famous-and-another-artist-struggles/
LOCATION:Online Class
ATTACH;FMTTYPE=image/png:https://nicsart.com/wp-content/uploads/2021/03/Who-decides-what-art-is…Who-makes-an-artist-famous-and-another-artist-struggles.png
END:VEVENT
BEGIN:VEVENT
DTSTART;TZID=America/Phoenix:20210322T163000
DTEND;TZID=America/Phoenix:20210322T173000
DTSTAMP:20260425T090430
CREATED:20210330T041947Z
LAST-MODIFIED:20210330T041947Z
UID:696-1616430600-1616434200@nicsart.com
SUMMARY:Art Critiques at Desert Foothills Library
DESCRIPTION:Join me for art critiques at the Desert Foothills Library. For more information please email me directly at nic@nicsart.com.
URL:https://nicsart.com/event/art-critiques-at-desert-foothills-library/
ATTACH;FMTTYPE=image/jpeg:https://nicsart.com/wp-content/uploads/2021/03/pexels-snow-white-2721507-2.jpg
END:VEVENT
BEGIN:VEVENT
DTSTART;TZID=America/Phoenix:20210305T100000
DTEND;TZID=America/Phoenix:20210305T113000
DTSTAMP:20260425T090430
CREATED:20210305T054003Z
LAST-MODIFIED:20210330T153631Z
UID:335-1614938400-1614943800@nicsart.com
SUMMARY:Art\, Coffee & Conversation: Art Oddities and the Most Expensive Art in the World!
DESCRIPTION:Art can be flummoxing\, confusing\, ODD\, and pricey! As part of our ongoing Art\, Coffee\, and Conversation Series\, we invite you to join us for a look at some of the oddest art AND most expensive art in the world! The picture here is of The Clark house\, its secrets\, oddities\, art\, with a tie to Arizona. Come join the discussion!
URL:https://nicsart.com/event/art-oddities-and-the-most-expensive-art-in-the-world/
LOCATION:Online Class
ATTACH;FMTTYPE=image/jpeg:https://nicsart.com/wp-content/uploads/2021/03/March-2021-art-coffee-and-conversaion-1.jpeg
END:VEVENT
BEGIN:VEVENT
DTSTART;TZID=America/Phoenix:20210205T100000
DTEND;TZID=America/Phoenix:20210205T113000
DTSTAMP:20260425T090430
CREATED:20210205T060750Z
LAST-MODIFIED:20210330T153719Z
UID:131-1612519200-1612524600@nicsart.com
SUMMARY:Art\, Coffee & Conversation: Destroyed and Damaged Art!
DESCRIPTION:Who would ever destroy or damage art? Unthinkable! This month’s Art\, Coffee and Conversation will provide answers to questions such as “who would destroy art\, and why would they do it?” Come join this lively and informative discussion as we learn some of the reasons for these occurrences\, and find answers to many of our questions. \nNicolette Bonnstetter will lead this discussion as part of her monthly Art\, Coffee\, and Conversation class\, which tackles a new and fascinating topic on the first Friday of every month. \nAfter you register\, you will be sent the URL for this workshop. REGISTRATION CLOSES AT 5:00 PM\, Thursday\, Jan. 4th. \nRegister Here: https://azfcf.coursestorm.com/course/destroyed-and-damaged-art?page=3
URL:https://nicsart.com/event/destroyed-and-damaged-art/
ATTACH;FMTTYPE=image/jpeg:https://nicsart.com/wp-content/uploads/2021/02/141559932_1492272597646410_3326346287315127216_n-1.jpeg
ORGANIZER;CN="Lifelong Learning":MAILTO:betsy@azfcf.org
END:VEVENT
END:VCALENDAR