BEGIN:VCALENDAR
VERSION:2.0
PRODID:-//Nicolette Maguire Bonnstetter - ECPv6.15.20//NONSGML v1.0//EN
CALSCALE:GREGORIAN
METHOD:PUBLISH
X-WR-CALNAME:Nicolette Maguire Bonnstetter
X-ORIGINAL-URL:https://nicsart.com
X-WR-CALDESC:Events for Nicolette Maguire Bonnstetter
REFRESH-INTERVAL;VALUE=DURATION:PT1H
X-Robots-Tag:noindex
X-PUBLISHED-TTL:PT1H
BEGIN:VTIMEZONE
TZID:America/Phoenix
BEGIN:STANDARD
TZOFFSETFROM:-0700
TZOFFSETTO:-0700
TZNAME:MST
DTSTART:20150101T000000
END:STANDARD
END:VTIMEZONE
BEGIN:VEVENT
DTSTART;VALUE=DATE:20170201
DTEND;VALUE=DATE:20170301
DTSTAMP:20260425T125341
CREATED:20230801T220012Z
LAST-MODIFIED:20230801T220012Z
UID:828-1485907200-1488326399@nicsart.com
SUMMARY:Contemporary juried Exhibit\, Desert Foothills Gallery\, Cave Creek\, AZ
DESCRIPTION:
URL:https://nicsart.com/event/contemporary-juried-exhibit-desert-foothills-gallery-cave-creek-az/
END:VEVENT
BEGIN:VEVENT
DTSTART;VALUE=DATE:20160301
DTEND;VALUE=DATE:20160401
DTSTAMP:20260425T125341
CREATED:20230801T220238Z
LAST-MODIFIED:20230801T220238Z
UID:832-1456790400-1459468799@nicsart.com
SUMMARY:Adornments\, one person exhibit\, Scottsdale\, AZ
DESCRIPTION:
URL:https://nicsart.com/event/adornments-one-person-exhibit-scottsdale-az/
END:VEVENT
END:VCALENDAR